BEGIN:VCALENDAR
VERSION:2.0
PRODID:icalendar-ruby
CALSCALE:GREGORIAN
METHOD:PUBLISH
BEGIN:VEVENT
DTSTAMP:20260423T134819Z
UID:101-873133@hazelwoodbaptist.com
DTSTART:20260510T154500Z
DTEND:20260510T161500Z
CLASS:PUBLIC
CREATED:20260422T171449
DESCRIPTION:
LAST-MODIFIED:20260422T171449
LOCATION:6161 Howdershell Rd
SUMMARY:Family Dedication
URL;VALUE=URI:https://www.hazelwoodbaptist.com/events/family-dedication/202
 6-05-10
ATTACH;FILENAME=Family-Dedication.png;FMTTYPE=image/png:https://dq5pwpg1q8r
 u0.cloudfront.net/2026/04/22/22/14/49/7414cbbb-760a-4ac9-8909-30d0a683417a
 /Family-Dedication.png
END:VEVENT
END:VCALENDAR
