BEGIN:VCALENDAR
VERSION:2.0
PRODID:icalendar-ruby
CALSCALE:GREGORIAN
METHOD:PUBLISH
BEGIN:VEVENT
DTSTAMP:20260424T130114Z
UID:103-877567@hazelwoodbaptist.com
DTSTART:20260531T173000Z
DTEND:20260531T193000Z
CLASS:PUBLIC
CREATED:20260423T155839
DESCRIPTION:Join us in the gym after the 10:45am service for church family 
 fun! We will have hot dogs for lunch and enjoy playing (or spectating) som
 e games of dodgeball!
LAST-MODIFIED:20260423T155839
LOCATION:6161 Howdershell Rd
SUMMARY:Family Lunch & Fun
URL;VALUE=URI:https://www.hazelwoodbaptist.com/events/family-lunch-fun/2026
 -05-31
ATTACH;FILENAME=Family-Lunch--Fun.png;FMTTYPE=image/png:https://dq5pwpg1q8r
 u0.cloudfront.net/2026/04/23/20/58/39/bbc8a861-7357-4532-ad60-e09c03686283
 /Family-Lunch--Fun.png
END:VEVENT
END:VCALENDAR
