BEGIN:VCALENDAR
VERSION:2.0
PRODID:icalendar-ruby
CALSCALE:GREGORIAN
METHOD:PUBLISH
BEGIN:VEVENT
DTSTAMP:20260422T090328Z
UID:8-869755@hazelwoodbaptist.com
DTSTART:20251026T154500Z
DTEND:20251026T170000Z
CLASS:PUBLIC
CREATED:20260421T194739
DESCRIPTION:Late Sunday Worship Service
LAST-MODIFIED:20260421T194739
LOCATION:
SUMMARY:Late Sunday Worship Service
URL;VALUE=URI:https://www.hazelwoodbaptist.com/events/late-sunday-worship-s
 ervice/2025-10-26
END:VEVENT
END:VCALENDAR
