BEGIN:VCALENDAR
VERSION:2.0
PRODID:icalendar-ruby
CALSCALE:GREGORIAN
METHOD:PUBLISH
BEGIN:VEVENT
DTSTAMP:20260422T194249Z
UID:8-871974@hazelwoodbaptist.com
DTSTART:20251221T164500Z
DTEND:20251221T180000Z
CLASS:PUBLIC
CREATED:20260422T124127
DESCRIPTION:Late Sunday Worship Service
LAST-MODIFIED:20260422T124127
LOCATION:
SUMMARY:Late Sunday Worship Service
URL;VALUE=URI:https://www.hazelwoodbaptist.com/events/late-sunday-worship-s
 ervice/2025-12-21
END:VEVENT
END:VCALENDAR
