BEGIN:VCALENDAR
VERSION:2.0
PRODID:icalendar-ruby
CALSCALE:GREGORIAN
METHOD:PUBLISH
BEGIN:VEVENT
DTSTAMP:20260424T163030Z
UID:8-880133@hazelwoodbaptist.com
DTSTART:20260719T154500Z
DTEND:20260719T170000Z
CLASS:PUBLIC
CREATED:20260424T094608
DESCRIPTION:Late Sunday Worship Service
LAST-MODIFIED:20260424T094608
LOCATION:
SUMMARY:Late Sunday Worship Service
URL;VALUE=URI:https://www.hazelwoodbaptist.com/events/late-sunday-worship-s
 ervice/2026-07-19
END:VEVENT
END:VCALENDAR
