BEGIN:VCALENDAR
VERSION:2.0
PRODID:icalendar-ruby
CALSCALE:GREGORIAN
METHOD:PUBLISH
BEGIN:VEVENT
DTSTAMP:20260424T221615Z
UID:8-881616@hazelwoodbaptist.com
DTSTART:20260823T154500Z
DTEND:20260823T170000Z
CLASS:PUBLIC
CREATED:20260424T152043
DESCRIPTION:Late Sunday Worship Service
LAST-MODIFIED:20260424T152043
LOCATION:
SUMMARY:Late Sunday Worship Service
URL;VALUE=URI:https://www.hazelwoodbaptist.com/events/late-sunday-worship-s
 ervice/2026-08-23
END:VEVENT
END:VCALENDAR
