BEGIN:VCALENDAR
VERSION:2.0
PRODID:icalendar-ruby
CALSCALE:GREGORIAN
METHOD:PUBLISH
BEGIN:VEVENT
DTSTAMP:20260425T040816Z
UID:8-883099@hazelwoodbaptist.com
DTSTART:20260927T154500Z
DTEND:20260927T170000Z
CLASS:PUBLIC
CREATED:20260424T205716
DESCRIPTION:Late Sunday Worship Service
LAST-MODIFIED:20260424T205716
LOCATION:
SUMMARY:Late Sunday Worship Service
URL;VALUE=URI:https://www.hazelwoodbaptist.com/events/late-sunday-worship-s
 ervice/2026-09-27
END:VEVENT
END:VCALENDAR
