BEGIN:VCALENDAR
VERSION:2.0
PRODID:icalendar-ruby
CALSCALE:GREGORIAN
METHOD:PUBLISH
BEGIN:VEVENT
DTSTAMP:20260425T112124Z
UID:8-883104@hazelwoodbaptist.com
DTSTART:20261101T164500Z
DTEND:20261101T180000Z
CLASS:PUBLIC
CREATED:20260424T205716
DESCRIPTION:Late Sunday Worship Service
LAST-MODIFIED:20260424T205716
LOCATION:
SUMMARY:Late Sunday Worship Service
URL;VALUE=URI:https://www.hazelwoodbaptist.com/events/late-sunday-worship-s
 ervice/2026-11-01
END:VEVENT
END:VCALENDAR
